BEGIN:VCALENDAR
VERSION:2.0
PRODID:-//akoyaGO | Software for Foundations - ECPv6.15.20//NONSGML v1.0//EN
CALSCALE:GREGORIAN
METHOD:PUBLISH
X-WR-CALNAME:akoyaGO | Software for Foundations
X-ORIGINAL-URL:https://akoyago.com
X-WR-CALDESC:Events for akoyaGO | Software for Foundations
REFRESH-INTERVAL;VALUE=DURATION:PT1H
X-Robots-Tag:noindex
X-PUBLISHED-TTL:PT1H
BEGIN:VTIMEZONE
TZID:UTC
BEGIN:STANDARD
TZOFFSETFROM:+0000
TZOFFSETTO:+0000
TZNAME:UTC
DTSTART:20250101T000000
END:STANDARD
END:VTIMEZONE
BEGIN:VEVENT
DTSTART;VALUE=DATE:20260325
DTEND;VALUE=DATE:20260328
DTSTAMP:20260421T091751
CREATED:20260204T195759Z
LAST-MODIFIED:20260204T195933Z
UID:33207-1774396800-1774655999@akoyago.com
SUMMARY:CEONet 2026
DESCRIPTION:View All Events\n					\n					\n				\n								\n				\n				\n				\n					This event has passed. \n				\n				\n				\n						\n					\n			\n						\n				\n					\n	CEONet 2026				\n				\n				\n				\n					\n		\n			March 25\, 2026\n\n		\n	\n	 - \n\n	March 27\, 2026\n\n	\n				\n				\n				\n				\n					\n	\n		\n\n	\n	Add to calendar	\n		\n	\n\n		\n			\n									\n	Google Calendar\n\n									\n	iCalendar\n\n									\n	Outlook 365\n\n									\n	Outlook Live\n\n							\n		\n\n		\n	\n\n				\n				\n					\n		\n				\n			\n						\n				\n																														\n				\n					\n		\n					\n		\n				\n						\n					\n			\n						\n				\n					\n				\n				\n	\n	Community Foundation of Broward\n	\n	\n\n910 East Las Olas Blvd.\n	\n		\n		Fort Lauderdale\,\n\n	FL\n\n\n	United States\n\n\n\n\n	+ Google Map \n\n\n\n	\n\n\n\n		\n	\n				\n				\n					\n		\n				\n			\n						\n				\n					\n	\n	Website:	\n	https://www.ceonet.org/event/ceonet-2026-annual-retreat/\n\n				\n				\n				\n				\n					\n	\n\n	Categories:	\n		Industry Event	\n\n				\n				\n					\n		\n					\n		\n				\n						\n					\n			\n						\n				\n					\n	\n		\n\n				EmpowerCF Conference by CommunityGiving	\n\n\n		\n	\n		Equipping Your Board for Better Decisions: Key Financial Information for Foundation Boards
URL:https://akoyago.com/event/ceonet-2026/
LOCATION:Community Foundation of Broward\, 910 East Las Olas Blvd.\, Fort Lauderdale\, FL\, United States
CATEGORIES:Industry Event
ATTACH;FMTTYPE=image/png:https://akoyago.com/wp-content/uploads/2026/02/Screenshot-2026-02-04-135744.png
END:VEVENT
END:VCALENDAR